BEGIN:VCALENDAR
VERSION:2.0
PRODID:-//Umbach Racing - ECPv6.15.20//NONSGML v1.0//EN
CALSCALE:GREGORIAN
METHOD:PUBLISH
X-ORIGINAL-URL:https://www.umbach-racing.de
X-WR-CALDESC:Veranstaltungen für Umbach Racing
REFRESH-INTERVAL;VALUE=DURATION:PT1H
X-Robots-Tag:noindex
X-PUBLISHED-TTL:PT1H
BEGIN:VTIMEZONE
TZID:Europe/Berlin
BEGIN:DAYLIGHT
TZOFFSETFROM:+0100
TZOFFSETTO:+0200
TZNAME:CEST
DTSTART:20210328T010000
END:DAYLIGHT
BEGIN:STANDARD
TZOFFSETFROM:+0200
TZOFFSETTO:+0100
TZNAME:CET
DTSTART:20211031T010000
END:STANDARD
BEGIN:DAYLIGHT
TZOFFSETFROM:+0100
TZOFFSETTO:+0200
TZNAME:CEST
DTSTART:20220327T010000
END:DAYLIGHT
BEGIN:STANDARD
TZOFFSETFROM:+0200
TZOFFSETTO:+0100
TZNAME:CET
DTSTART:20221030T010000
END:STANDARD
BEGIN:DAYLIGHT
TZOFFSETFROM:+0100
TZOFFSETTO:+0200
TZNAME:CEST
DTSTART:20230326T010000
END:DAYLIGHT
BEGIN:STANDARD
TZOFFSETFROM:+0200
TZOFFSETTO:+0100
TZNAME:CET
DTSTART:20231029T010000
END:STANDARD
BEGIN:DAYLIGHT
TZOFFSETFROM:+0100
TZOFFSETTO:+0200
TZNAME:CEST
DTSTART:20240331T010000
END:DAYLIGHT
BEGIN:STANDARD
TZOFFSETFROM:+0200
TZOFFSETTO:+0100
TZNAME:CET
DTSTART:20241027T010000
END:STANDARD
BEGIN:DAYLIGHT
TZOFFSETFROM:+0100
TZOFFSETTO:+0200
TZNAME:CEST
DTSTART:20250330T010000
END:DAYLIGHT
BEGIN:STANDARD
TZOFFSETFROM:+0200
TZOFFSETTO:+0100
TZNAME:CET
DTSTART:20251026T010000
END:STANDARD
BEGIN:DAYLIGHT
TZOFFSETFROM:+0100
TZOFFSETTO:+0200
TZNAME:CEST
DTSTART:20260329T010000
END:DAYLIGHT
BEGIN:STANDARD
TZOFFSETFROM:+0200
TZOFFSETTO:+0100
TZNAME:CET
DTSTART:20261025T010000
END:STANDARD
END:VTIMEZONE
BEGIN:VEVENT
DTSTART;VALUE=DATE:20250919
DTEND;VALUE=DATE:20250922
DTSTAMP:20260423T141727
CREATED:20250429T055131Z
LAST-MODIFIED:20250429T055131Z
UID:396-1758240000-1758499199@www.umbach-racing.de
SUMMARY:48. Hockenheim Classics
DESCRIPTION:
URL:https://www.umbach-racing.de/event/48-hockenheim-classics/
LOCATION:Hockenheimring\, Am Motodrom\, Hockenheim\, Baden-Württemberg\, 68766\, Deutschland
ORGANIZER;CN="DHM":MAILTO:info@vfv-dhm.de
END:VEVENT
BEGIN:VEVENT
DTSTART;VALUE=DATE:20250816
DTEND;VALUE=DATE:20250818
DTSTAMP:20260423T141727
CREATED:20250429T055036Z
LAST-MODIFIED:20250429T055036Z
UID:394-1755302400-1755475199@www.umbach-racing.de
SUMMARY:35. Int. ADAC/VFV Schottenring Historic Grand Prix
DESCRIPTION:
URL:https://www.umbach-racing.de/event/35-int-adac-vfv-schottenring-historic-grand-prix/
LOCATION:Schottenring\, Vogelsbergstraße 82\, Schotten\, Hessen\, 63679\, Deutschland
END:VEVENT
BEGIN:VEVENT
DTSTART;VALUE=DATE:20250726
DTEND;VALUE=DATE:20250728
DTSTAMP:20260423T141727
CREATED:20250429T054908Z
LAST-MODIFIED:20250429T055327Z
UID:392-1753488000-1753660799@www.umbach-racing.de
SUMMARY:33. Kölner Kurs
DESCRIPTION:
URL:https://www.umbach-racing.de/event/33-koelner-kurs/
LOCATION:Nürburgring\, Nürburgring Boulevard 1\, Nürburg\, Rheinland-Pfalz\, 53520\, Deutschland
CATEGORIES:Gleichmässigkeitsprüfung
END:VEVENT
BEGIN:VEVENT
DTSTART;VALUE=DATE:20250704
DTEND;VALUE=DATE:20250707
DTSTAMP:20260423T141727
CREATED:20250429T055159Z
LAST-MODIFIED:20250429T055159Z
UID:390-1751587200-1751846399@www.umbach-racing.de
SUMMARY:VFV Classic GP Schleizer Dreieck 2025
DESCRIPTION:
URL:https://www.umbach-racing.de/event/vfv-classic-gp-schleizer-dreieck-2025/
LOCATION:Schleizer Dreieck\, Am Stadtweg 17\, Schleiz\, Thüringen\, 07907\, Deutschland
ORGANIZER;CN="DHM":MAILTO:info@vfv-dhm.de
END:VEVENT
BEGIN:VEVENT
DTSTART;VALUE=DATE:20250613
DTEND;VALUE=DATE:20250616
DTSTAMP:20260423T141727
CREATED:20250429T054505Z
LAST-MODIFIED:20250429T054505Z
UID:388-1749772800-1750031999@www.umbach-racing.de
SUMMARY:VfV Großer Preis der Stadt Most (CZ) 2025
DESCRIPTION:
URL:https://www.umbach-racing.de/event/vfv-grosser-preis-der-stadt-most-cz-2025/
LOCATION:Autodrom Most\, Tvrzova 5\, Souš\, Most\, 435 02\, Tschechische Republik
ORGANIZER;CN="DHM":MAILTO:info@vfv-dhm.de
END:VEVENT
BEGIN:VEVENT
DTSTART;VALUE=DATE:20250524
DTEND;VALUE=DATE:20250526
DTSTAMP:20260423T141727
CREATED:20250429T054339Z
LAST-MODIFIED:20250429T054339Z
UID:386-1748044800-1748217599@www.umbach-racing.de
SUMMARY:VFV Classic GP Colmar Berg (L) 2025
DESCRIPTION:
URL:https://www.umbach-racing.de/event/vfv-classic-gp-colmar-berg-l-2025/
LOCATION:Circuit Goodyear\, 2 Rue François Krack\, Colmar-Berg\, Mersch\, 7737\, Luxemburg
ORGANIZER;CN="DHM":MAILTO:info@vfv-dhm.de
END:VEVENT
BEGIN:VEVENT
DTSTART;VALUE=DATE:20250502
DTEND;VALUE=DATE:20250505
DTSTAMP:20260423T141727
CREATED:20241118T142520Z
LAST-MODIFIED:20241118T142520Z
UID:383-1746144000-1746403199@www.umbach-racing.de
SUMMARY:Sachsenring Classic
DESCRIPTION:
URL:https://www.umbach-racing.de/event/sachsenring-classic/
LOCATION:Thüringen
END:VEVENT
BEGIN:VEVENT
DTSTART;VALUE=DATE:20250412
DTEND;VALUE=DATE:20250414
DTSTAMP:20260423T141727
CREATED:20241118T142414Z
LAST-MODIFIED:20241118T142414Z
UID:381-1744416000-1744588799@www.umbach-racing.de
SUMMARY:Oschersleben
DESCRIPTION:
URL:https://www.umbach-racing.de/event/oschersleben-2/
LOCATION:Motorsport Arena Oschersleben\, Motopark-Allee 20\, Oschersleben (Bode)\, Sachsen-Anhalt\, 39387
ORGANIZER;CN="DHM":MAILTO:info@vfv-dhm.de
END:VEVENT
BEGIN:VEVENT
DTSTART;VALUE=DATE:20250319
DTEND;VALUE=DATE:20250320
DTSTAMP:20260423T141727
CREATED:20241118T142253Z
LAST-MODIFIED:20241118T142253Z
UID:379-1742342400-1742428799@www.umbach-racing.de
SUMMARY:Einstellfahrt
DESCRIPTION:
URL:https://www.umbach-racing.de/event/einstellfahrt/
LOCATION:Hockenheimring\, Am Motodrom\, Hockenheim\, Baden-Württemberg\, 68766\, Deutschland
ORGANIZER;CN="DHM":MAILTO:info@vfv-dhm.de
END:VEVENT
BEGIN:VEVENT
DTSTART;VALUE=DATE:20240927
DTEND;VALUE=DATE:20240930
DTSTAMP:20260423T141727
CREATED:20240108T160412Z
LAST-MODIFIED:20240108T160412Z
UID:370-1727395200-1727654399@www.umbach-racing.de
SUMMARY:Hockenheim
DESCRIPTION:
URL:https://www.umbach-racing.de/event/hockenheim-2/
LOCATION:Hockenheimring\, Am Motodrom\, Hockenheim\, Baden-Württemberg\, 68766\, Deutschland
ORGANIZER;CN="DHM":MAILTO:info@vfv-dhm.de
END:VEVENT
BEGIN:VEVENT
DTSTART;VALUE=DATE:20240906
DTEND;VALUE=DATE:20240909
DTSTAMP:20260423T141727
CREATED:20240108T160334Z
LAST-MODIFIED:20240108T160334Z
UID:368-1725580800-1725839999@www.umbach-racing.de
SUMMARY:Schleiz
DESCRIPTION:
URL:https://www.umbach-racing.de/event/schleiz-3/
LOCATION:Schleizer Dreieck\, Am Stadtweg 17\, Schleiz\, Thüringen\, 07907\, Deutschland
ORGANIZER;CN="DHM":MAILTO:info@vfv-dhm.de
END:VEVENT
BEGIN:VEVENT
DTSTART;VALUE=DATE:20240817
DTEND;VALUE=DATE:20240819
DTSTAMP:20260423T141727
CREATED:20240108T160247Z
LAST-MODIFIED:20240108T160247Z
UID:365-1723852800-1724025599@www.umbach-racing.de
SUMMARY:Schottenring GP
DESCRIPTION:
URL:https://www.umbach-racing.de/event/schottenring-gp/
LOCATION:Schottenring\, Vogelsbergstraße 82\, Schotten\, Hessen\, 63679\, Deutschland
END:VEVENT
BEGIN:VEVENT
DTSTART;VALUE=DATE:20240713
DTEND;VALUE=DATE:20240715
DTSTAMP:20260423T141727
CREATED:20240108T160045Z
LAST-MODIFIED:20240504T110741Z
UID:363-1720828800-1721001599@www.umbach-racing.de
SUMMARY:Colmar Berg
DESCRIPTION:
URL:https://www.umbach-racing.de/event/colmar-berg-2/
LOCATION:Circuit Goodyear\, 2 Rue François Krack\, Colmar-Berg\, Mersch\, 7737\, Luxemburg
ORGANIZER;CN="DHM":MAILTO:info@vfv-dhm.de
END:VEVENT
BEGIN:VEVENT
DTSTART;VALUE=DATE:20240614
DTEND;VALUE=DATE:20240617
DTSTAMP:20260423T141727
CREATED:20240108T155939Z
LAST-MODIFIED:20240108T155939Z
UID:361-1718323200-1718582399@www.umbach-racing.de
SUMMARY:Most
DESCRIPTION:
URL:https://www.umbach-racing.de/event/most-2/
LOCATION:Autodrom Most\, Tvrzova 5\, Souš\, Most\, 435 02\, Tschechische Republik
ORGANIZER;CN="DHM":MAILTO:info@vfv-dhm.de
END:VEVENT
BEGIN:VEVENT
DTSTART;VALUE=DATE:20240512
DTEND;VALUE=DATE:20240513
DTSTAMP:20260423T141727
CREATED:20240108T155858Z
LAST-MODIFIED:20240108T155858Z
UID:359-1715472000-1715558399@www.umbach-racing.de
SUMMARY:Kölner Kurs
DESCRIPTION:
URL:https://www.umbach-racing.de/event/koelner-kurs-2/
LOCATION:Nürburgring\, Nürburgring Boulevard 1\, Nürburg\, Rheinland-Pfalz\, 53520\, Deutschland
END:VEVENT
BEGIN:VEVENT
DTSTART;VALUE=DATE:20240413
DTEND;VALUE=DATE:20240415
DTSTAMP:20260423T141727
CREATED:20240108T155757Z
LAST-MODIFIED:20240108T155757Z
UID:357-1712966400-1713139199@www.umbach-racing.de
SUMMARY:Oschersleben
DESCRIPTION:
URL:https://www.umbach-racing.de/event/oschersleben/
LOCATION:Motorsport Arena Oschersleben\, Motopark-Allee 20\, Oschersleben (Bode)\, Sachsen-Anhalt\, 39387
ORGANIZER;CN="DHM":MAILTO:info@vfv-dhm.de
END:VEVENT
BEGIN:VEVENT
DTSTART;VALUE=DATE:20240412
DTEND;VALUE=DATE:20240413
DTSTAMP:20260423T141727
CREATED:20240108T155720Z
LAST-MODIFIED:20240108T155720Z
UID:355-1712880000-1712966399@www.umbach-racing.de
SUMMARY:Testtag in Oschersleben
DESCRIPTION:
URL:https://www.umbach-racing.de/event/testtag-in-oschersleben/
LOCATION:Motorsport Arena Oschersleben\, Motopark-Allee 20\, Oschersleben (Bode)\, Sachsen-Anhalt\, 39387
ORGANIZER;CN="DHM":MAILTO:info@vfv-dhm.de
END:VEVENT
BEGIN:VEVENT
DTSTART;VALUE=DATE:20230929
DTEND;VALUE=DATE:20231002
DTSTAMP:20260423T141727
CREATED:20230131T131208Z
LAST-MODIFIED:20230131T131208Z
UID:350-1695945600-1696204799@www.umbach-racing.de
SUMMARY:46. Hockenheim Classics
DESCRIPTION:
URL:https://www.umbach-racing.de/event/46-hockenheim-classics/
LOCATION:Hockenheimring\, Am Motodrom\, Hockenheim\, Baden-Württemberg\, 68766\, Deutschland
ORGANIZER;CN="DHM":MAILTO:info@vfv-dhm.de
END:VEVENT
BEGIN:VEVENT
DTSTART;VALUE=DATE:20230729
DTEND;VALUE=DATE:20230731
DTSTAMP:20260423T141727
CREATED:20230131T131007Z
LAST-MODIFIED:20230131T131007Z
UID:346-1690588800-1690761599@www.umbach-racing.de
SUMMARY:VFV Klassik GP Colmar Berg
DESCRIPTION:
URL:https://www.umbach-racing.de/event/vfv-klassik-gp-colmar-berg/
LOCATION:Circuit Goodyear\, 2 Rue François Krack\, Colmar-Berg\, Mersch\, 7737\, Luxemburg
ORGANIZER;CN="DHM":MAILTO:info@vfv-dhm.de
END:VEVENT
BEGIN:VEVENT
DTSTART;VALUE=DATE:20230707
DTEND;VALUE=DATE:20230710
DTSTAMP:20260423T141727
CREATED:20230131T130917Z
LAST-MODIFIED:20230131T130917Z
UID:344-1688688000-1688947199@www.umbach-racing.de
SUMMARY:VFV Klassik GP Schleizer Dreieck
DESCRIPTION:
URL:https://www.umbach-racing.de/event/vfv-klassik-gp-schleizer-dreieck/
LOCATION:Schleizer Dreieck\, Am Stadtweg 17\, Schleiz\, Thüringen\, 07907\, Deutschland
ORGANIZER;CN="DHM":MAILTO:info@vfv-dhm.de
END:VEVENT
BEGIN:VEVENT
DTSTART;VALUE=DATE:20230609
DTEND;VALUE=DATE:20230612
DTSTAMP:20260423T141727
CREATED:20230131T130827Z
LAST-MODIFIED:20230131T130827Z
UID:342-1686268800-1686527999@www.umbach-racing.de
SUMMARY:VFV Großer Preis der Stadt Most
DESCRIPTION:
URL:https://www.umbach-racing.de/event/vfv-grosser-preis-der-stadt-most/
LOCATION:Autodrom Most\, Tvrzova 5\, Souš\, Most\, 435 02\, Tschechische Republik
ORGANIZER;CN="DHM":MAILTO:info@vfv-dhm.de
END:VEVENT
BEGIN:VEVENT
DTSTART;VALUE=DATE:20230514
DTEND;VALUE=DATE:20230515
DTSTAMP:20260423T141727
CREATED:20230131T130431Z
LAST-MODIFIED:20230131T130431Z
UID:336-1684022400-1684108799@www.umbach-racing.de
SUMMARY:Kölner Kurs
DESCRIPTION:
URL:https://www.umbach-racing.de/event/koelner-kurs/
LOCATION:Nürburgring\, Nürburgring Boulevard 1\, Nürburg\, Rheinland-Pfalz\, 53520\, Deutschland
END:VEVENT
BEGIN:VEVENT
DTSTART;VALUE=DATE:20230426
DTEND;VALUE=DATE:20230427
DTSTAMP:20260423T141727
CREATED:20230131T130550Z
LAST-MODIFIED:20230131T130550Z
UID:334-1682467200-1682553599@www.umbach-racing.de
SUMMARY:Test- und Einstellfahrten
DESCRIPTION:Hockenheimring
URL:https://www.umbach-racing.de/event/test-und-einstellfahrten-2/
LOCATION:Hockenheimring\, Am Motodrom\, Hockenheim\, Baden-Württemberg\, 68766\, Deutschland
CATEGORIES:Testfahrt
ORGANIZER;CN="DHM":MAILTO:info@vfv-dhm.de
END:VEVENT
BEGIN:VEVENT
DTSTART;VALUE=DATE:20220909
DTEND;VALUE=DATE:20220912
DTSTAMP:20260423T141727
CREATED:20220112T104233Z
LAST-MODIFIED:20220112T104233Z
UID:326-1662681600-1662940799@www.umbach-racing.de
SUMMARY:Hockenheim
DESCRIPTION:
URL:https://www.umbach-racing.de/event/hockenheim/
LOCATION:Hockenheimring\, Am Motodrom\, Hockenheim\, Baden-Württemberg\, 68766\, Deutschland
ORGANIZER;CN="DHM":MAILTO:info@vfv-dhm.de
END:VEVENT
BEGIN:VEVENT
DTSTART;VALUE=DATE:20220820
DTEND;VALUE=DATE:20220822
DTSTAMP:20260423T141727
CREATED:20210319T201059Z
LAST-MODIFIED:20210526T172135Z
UID:292-1660953600-1661126399@www.umbach-racing.de
SUMMARY:32 .Int. ADAC/VFV Schottenring Classics GP
DESCRIPTION:Cornabedingt verschoben auf 2022
URL:https://www.umbach-racing.de/event/32-int-adac-vfv-schottenring-classics-gp/
LOCATION:Schottenring\, Vogelsbergstraße 82\, Schotten\, Hessen\, 63679\, Deutschland
ORGANIZER;CN="DHM":MAILTO:info@vfv-dhm.de
END:VEVENT
BEGIN:VEVENT
DTSTART;VALUE=DATE:20220805
DTEND;VALUE=DATE:20220808
DTSTAMP:20260423T141727
CREATED:20220406T151605Z
LAST-MODIFIED:20220406T151605Z
UID:330-1659657600-1659916799@www.umbach-racing.de
SUMMARY:7. MCW Motorsport Klassik
DESCRIPTION:
URL:https://www.umbach-racing.de/event/7-mcw-motorsport-klassik/
LOCATION:St. Wendel Stadtkurs\, Tritschler Straße\, St. Wendel\, Saarland\, 66606\, Deutschland
END:VEVENT
BEGIN:VEVENT
DTSTART;VALUE=DATE:20220730
DTEND;VALUE=DATE:20220801
DTSTAMP:20260423T141727
CREATED:20220112T104110Z
LAST-MODIFIED:20220112T104110Z
UID:324-1659139200-1659311999@www.umbach-racing.de
SUMMARY:Colmar Berg
DESCRIPTION:
URL:https://www.umbach-racing.de/event/colmar-berg/
LOCATION:Circuit Goodyear\, 2 Rue François Krack\, Colmar-Berg\, Mersch\, 7737\, Luxemburg
ORGANIZER;CN="DHM":MAILTO:info@vfv-dhm.de
END:VEVENT
BEGIN:VEVENT
DTSTART;VALUE=DATE:20220701
DTEND;VALUE=DATE:20220704
DTSTAMP:20260423T141727
CREATED:20220112T104025Z
LAST-MODIFIED:20220112T104025Z
UID:322-1656633600-1656892799@www.umbach-racing.de
SUMMARY:Schleiz
DESCRIPTION:
URL:https://www.umbach-racing.de/event/schleiz-2/
LOCATION:Schleizer Dreieck\, Am Stadtweg 17\, Schleiz\, Thüringen\, 07907\, Deutschland
ORGANIZER;CN="DHM":MAILTO:info@vfv-dhm.de
END:VEVENT
BEGIN:VEVENT
DTSTART;VALUE=DATE:20220527
DTEND;VALUE=DATE:20220530
DTSTAMP:20260423T141727
CREATED:20220112T103919Z
LAST-MODIFIED:20220112T103919Z
UID:320-1653609600-1653868799@www.umbach-racing.de
SUMMARY:Most
DESCRIPTION:
URL:https://www.umbach-racing.de/event/most/
LOCATION:Autodrom Most\, Tvrzova 5\, Souš\, Most\, 435 02\, Tschechische Republik
ORGANIZER;CN="DHM":MAILTO:info@vfv-dhm.de
END:VEVENT
BEGIN:VEVENT
DTSTART;VALUE=DATE:20220515
DTEND;VALUE=DATE:20220516
DTSTAMP:20260423T141727
CREATED:20220112T103838Z
LAST-MODIFIED:20220112T103838Z
UID:318-1652572800-1652659199@www.umbach-racing.de
SUMMARY:Kölner Kurs - Nürburgring
DESCRIPTION:
URL:https://www.umbach-racing.de/event/koelner-kurs-nuerburgring/
LOCATION:Nürburgring\, Nürburgring Boulevard 1\, Nürburg\, Rheinland-Pfalz\, 53520\, Deutschland
END:VEVENT
END:VCALENDAR